BEGIN:VCALENDAR
PRODID:-//kirchenweb.ch gmbh//veranstaltungsausgabe v2.0//DE
VERSION:2.0
METHOD:PUBLISH
BEGIN:VEVENT
DTSTART:20260601T120000Z
DTEND:20260601T140000Z
LOCATION:Kirchgemeindehaus Bremgarten\, Bärenmattstrasse 1\, 5620
  Bremgarten
TRANSP:OPAQUE
SEQUENCE:0
UID:17316-veranstaltung@ref-bremgarten-mutschellen.ch
DTSTAMP:20251030T095444Z
DESCRIPTION:Lesefreudige Menschen ab 60 treffen sich alle 14 Tage um 14
  Uhr im Pfarrhaus Bremgarten\, lesen aus einem gemeinsamen gewählten Buch
  und tauschen Gedanken zur gelesenen Literatur aus. Daraus entstehen
  Diskussionen über Werte und Lebensanschauungen.\n\nNeue Leserinnen und
  Leser sind willkommen. \n\nKontakt: Verena Müller\, Tel. 056 350 05 24 
 \n\nWeitere Infos:
  https://www.ref-bremgarten-mutschellen.ch/veranstaltung/17316
SUMMARY:Lesezirkel
PRIORITY:5
X-MICROSOFT-CDO-IMPORTANCE:1
CLASS:PUBLIC
END:VEVENT
END:VCALENDAR
