BEGIN:VCALENDAR
PRODID:-//kirchenweb.ch gmbh//veranstaltungsausgabe v2.0//DE
VERSION:2.0
METHOD:PUBLISH
BEGIN:VEVENT
DTSTART:20261121T080000Z
DTEND:20261121T103000Z
LOCATION:im Keller des Kirchgemeindehaus Bremgarten\, Bärenmattstrasse
  1\, 5620 Bremgarten
TRANSP:OPAQUE
SEQUENCE:0
UID:17297-veranstaltung@ref-bremgarten-mutschellen.ch
DTSTAMP:20260113T133458Z
DESCRIPTION:Kontakt: Therese Kuratle\, Tel. 056 6411315\n\nWeitere Infos:
  https://www.ref-bremgarten-mutschellen.ch/veranstaltung/17297
SUMMARY:Flohmarkt Bremgarten
PRIORITY:5
X-MICROSOFT-CDO-IMPORTANCE:1
CLASS:PUBLIC
END:VEVENT
END:VCALENDAR
