BEGIN:VCALENDAR
PRODID:-//kirchenweb.ch gmbh//veranstaltungsausgabe v2.0//DE
VERSION:2.0
METHOD:PUBLISH
BEGIN:VEVENT
DTSTART:20260428T120000Z
DTEND:20260428T150000Z
LOCATION:Kirchgemeindehaus Bremgarten\, Bärenmattstrasse 1\, 5620
  Bremgarten AG
TRANSP:OPAQUE
SEQUENCE:0
UID:17262-veranstaltung@ref-bremgarten-mutschellen.ch
DTSTAMP:20251028T073328Z
DESCRIPTION:Zum geselligen Spielen\, Jassen und Plaudern treffen wir uns
  im Kirchgemeindehaus.\n\nAlle sind herzlich Willkommen gemeinsam einen
  spielerischen Nachmittag zu verbringen.\n\n\nKontakt: Verena Müller\,
  Tel. 056 350 05 24 \n\nWeitere Infos:
  https://www.ref-bremgarten-mutschellen.ch/veranstaltung/17262
SUMMARY:Spiel- und Jassnachmittag
PRIORITY:5
X-MICROSOFT-CDO-IMPORTANCE:1
CLASS:PUBLIC
END:VEVENT
END:VCALENDAR
