BEGIN:VCALENDAR
PRODID:-//kirchenweb.ch gmbh//veranstaltungsausgabe v2.0//DE
VERSION:2.0
METHOD:PUBLISH
BEGIN:VEVENT
DTSTART:20260530T083000Z
DTEND:20260530T160000Z
LOCATION:Ref. Kirche Widen\, Bellikonerstrasse 206\, 8967 Widen
TRANSP:OPAQUE
SEQUENCE:0
UID:17240-veranstaltung@ref-bremgarten-mutschellen.ch
DTSTAMP:20260416T085030Z
DESCRIPTION:Kontakt: Michael Wiesmann\n\nWeitere Infos:
  https://www.ref-bremgarten-mutschellen.ch/veranstaltung/17240
SUMMARY:soul_festival
PRIORITY:5
X-MICROSOFT-CDO-IMPORTANCE:1
CLASS:PUBLIC
END:VEVENT
END:VCALENDAR
