BEGIN:VCALENDAR
PRODID:-//kirchenweb.ch gmbh//veranstaltungsausgabe v2.0//DE
VERSION:2.0
METHOD:PUBLISH
BEGIN:VEVENT
DTSTART:20260905T073000Z
DTEND:20260905T120000Z
LOCATION:JuPa\, neben der Ref. Kirche Widen\, \,
TRANSP:OPAQUE
SEQUENCE:0
UID:17178-veranstaltung@ref-bremgarten-mutschellen.ch
DTSTAMP:20251006T133859Z
DESCRIPTION:Einmal im Monat an einem Samstag ist Flohmi Zeit. \nGerne
  verwöhnen wir Sie ab 9.30 Uhr mit Kaffi\, Gipfeli und Kuchen.\nÜber
  Mittag gibt es etwas Warmes.\n \nWare dürfen wie immer während der
  Öffnungszeit vorbei gebracht werden\, oder Sie melden sich bei Verena
  Donati Tel. 076 304 21 76\n\n\nKontakt: Verena Donati\, Tel. 056 633 94
  37 oder 076 304 21 76\n\nWeitere Infos:
  https://www.ref-bremgarten-mutschellen.ch/veranstaltung/17178
SUMMARY:Flohmärt mit Kafiträff
PRIORITY:5
X-MICROSOFT-CDO-IMPORTANCE:1
CLASS:PUBLIC
END:VEVENT
END:VCALENDAR
