BEGIN:VCALENDAR
PRODID:-//kirchenweb.ch gmbh//veranstaltungsausgabe v2.0//DE
VERSION:2.0
METHOD:PUBLISH
BEGIN:VEVENT
DTSTART:20261107T160000Z
DTEND:20261107T200000Z
LOCATION:Ref. Kirche Widen\, Bellikonerstrasse 206\, 8967 Widen
TRANSP:OPAQUE
SEQUENCE:0
UID:17135-veranstaltung@ref-bremgarten-mutschellen.ch
DTSTAMP:20250918T175114Z
DESCRIPTION:Kontakt: Maria Trost\, Tel. 056 350 05 27\n\nWeitere Infos:
  https://www.ref-bremgarten-mutschellen.ch/veranstaltung/17135
SUMMARY:KIS-Feier "Loslassen"
PRIORITY:5
X-MICROSOFT-CDO-IMPORTANCE:1
CLASS:PUBLIC
END:VEVENT
END:VCALENDAR
