BEGIN:VCALENDAR
PRODID:-//kirchenweb.ch gmbh//veranstaltungsausgabe v2.0//DE
VERSION:2.0
METHOD:PUBLISH
BEGIN:VEVENT
DTSTART:20261121T180000Z
DTEND:20261121T200000Z
LOCATION:Ref. Kirche Widen\, Bellikonerstrasse 206\, 8967 Widen
TRANSP:OPAQUE
SEQUENCE:0
UID:17109-veranstaltung@ref-bremgarten-mutschellen.ch
DTSTAMP:20250911T083202Z
DESCRIPTION:Kontakt: Bea\nBea Buob\, Tel. 056 517 95 85\n\nWeitere Infos:
  https://www.ref-bremgarten-mutschellen.ch/veranstaltung/17109
SUMMARY:Konzert Happy Voices
PRIORITY:5
X-MICROSOFT-CDO-IMPORTANCE:1
CLASS:PUBLIC
END:VEVENT
END:VCALENDAR
