BEGIN:VCALENDAR
PRODID:-//kirchenweb.ch gmbh//veranstaltungsausgabe v2.0//DE
VERSION:2.0
METHOD:PUBLISH
BEGIN:VEVENT
DTSTART:20260806T120000Z
DTEND:20260806T150000Z
LOCATION:Gasthof Herrenberg\, \, 8962 Bergdietikon
TRANSP:OPAQUE
SEQUENCE:0
UID:17037-veranstaltung@ref-bremgarten-mutschellen.ch
DTSTAMP:20250822T150847Z
DESCRIPTION:Gemütliches Zusammensitzen\, eine Runde Kegeln\, etwas
  Schwatzen\, sich wohl fühlen\, was will man mehr. \n\nSie sind herzlich
  eingeladen\, bei uns mitzukegeln. \n\nKontakt: Karl Hartmeier\, Tel. 056
  633 35 19\nGasthof Herrenberg\, Tel. 044 740 82 56\n\nWeitere Infos:
  https://www.ref-bremgarten-mutschellen.ch/veranstaltung/17037
SUMMARY:Seniorenkegelgruppe
PRIORITY:5
X-MICROSOFT-CDO-IMPORTANCE:1
CLASS:PUBLIC
END:VEVENT
END:VCALENDAR
