BEGIN:VCALENDAR
PRODID:-//kirchenweb.ch gmbh//veranstaltungsausgabe v2.0//DE
VERSION:2.0
METHOD:PUBLISH
BEGIN:VEVENT
DTSTART:20260626T140000Z
DTEND:20260626T215500Z
LOCATION:Extern\, \,
TRANSP:OPAQUE
SEQUENCE:0
UID:16846-veranstaltung@ref-bremgarten-mutschellen.ch
DTSTAMP:20250701T070258Z
DESCRIPTION:Kontakt: Manuel Keller\, Tel. 056 631 51 36\n\nWeitere Infos:
  https://www.ref-bremgarten-mutschellen.ch/veranstaltung/16846
SUMMARY:6.Kl. RU-Block: Weekend am Sempachersee
PRIORITY:5
X-MICROSOFT-CDO-IMPORTANCE:1
CLASS:PUBLIC
END:VEVENT
END:VCALENDAR
