BEGIN:VCALENDAR
PRODID:-//kirchenweb.ch gmbh//veranstaltungsausgabe v2.0//DE
VERSION:2.0
METHOD:PUBLISH
BEGIN:VEVENT
DTSTART:20250626T140000Z
DTEND:20250626T180000Z
LOCATION:JuPa\, neben der Ref. Kirche Widen\, neben der Ref. Kirche\, 8967
  Widen
TRANSP:OPAQUE
SEQUENCE:0
UID:16128-veranstaltung@ref-bremgarten-mutschellen.ch
DTSTAMP:20250103T110540Z
DESCRIPTION:Jeden 1. Donnerstag des Monats: Repair-Café \nJeden 3.
  Donnerstag des Monats: Backen oder Kochen\nAn allen weiteren Do:
  Basteln\, Nähen\, Spielen\, Malen.... \n\nKontakt: Manuel Keller\, Tel.
  056 631 51 36\n\nWeitere Infos:
  https://www.ref-bremgarten-mutschellen.ch/veranstaltung/16128
SUMMARY:Asyltreff KREATIV
PRIORITY:5
X-MICROSOFT-CDO-IMPORTANCE:1
CLASS:PUBLIC
END:VEVENT
END:VCALENDAR
