BEGIN:VCALENDAR
PRODID:-//kirchenweb.ch gmbh//veranstaltungsausgabe v2.0//DE
VERSION:2.0
METHOD:PUBLISH
BEGIN:VEVENT
DTSTART:20250629T163000Z
DTEND:20250629T173000Z
LOCATION:Ref. Kirche Bremgarten\, Bärenmattstrasse 1\, 5620 Bremgarten
TRANSP:OPAQUE
SEQUENCE:0
UID:15746-veranstaltung@ref-bremgarten-mutschellen.ch
DTSTAMP:20250722T095427Z
DESCRIPTION:Kontakt: Elke Räbiger\, Tel. 079 489 45 27\n\nWeitere Infos:
  https://www.ref-bremgarten-mutschellen.ch/veranstaltung/15746
SUMMARY:Musikalischer Gottesdienst - Abschied Monika Kern
PRIORITY:5
X-MICROSOFT-CDO-IMPORTANCE:1
CLASS:PUBLIC
END:VEVENT
END:VCALENDAR
