BEGIN:VCALENDAR
PRODID:-//kirchenweb.ch gmbh//veranstaltungsausgabe v2.0//DE
VERSION:2.0
METHOD:PUBLISH
BEGIN:VEVENT
DTSTART:20250625T073000Z
DTEND:20250625T090000Z
LOCATION:JuPa\, neben der Ref. Kirche Widen\, \,
TRANSP:OPAQUE
SEQUENCE:0
UID:15633-veranstaltung@ref-bremgarten-mutschellen.ch
DTSTAMP:20241126T123454Z
DESCRIPTION:Wir unterrichten in 3 Klassen (A0 - A2). Wir bieten eine
  KInderhüeti an.\nVor dem Deutschunterricht ist ab 9 Uhr unser JuPa Kafi
  offen und danach auch.\n\nKontakt:
  manuel.keller@ref-bremgarten-mutschellen.ch\n\nWeitere Infos:
  https://www.ref-bremgarten-mutschellen.ch/veranstaltung/15633
SUMMARY:Asyltreff DEUTSCH
PRIORITY:5
X-MICROSOFT-CDO-IMPORTANCE:1
CLASS:PUBLIC
END:VEVENT
END:VCALENDAR
