BEGIN:VCALENDAR
PRODID:-//kirchenweb.ch gmbh//veranstaltungsausgabe v2.0//DE
VERSION:2.0
METHOD:PUBLISH
BEGIN:VEVENT
DTSTART:20250626T170000Z
DTEND:20250626T200000Z
LOCATION:Ref. Kirche Bremgarten\, Bärenmattstrasse 1\, 5620 Bremgarten
TRANSP:OPAQUE
SEQUENCE:0
UID:15469-veranstaltung@ref-bremgarten-mutschellen.ch
DTSTAMP:20250415T114442Z
DESCRIPTION:Kontakt: Astrid Winkler\, Tel. 056 631 59 07\n\nWeitere Infos:
  https://www.ref-bremgarten-mutschellen.ch/veranstaltung/15469
SUMMARY:Kirchgemeindeversammlung
PRIORITY:5
X-MICROSOFT-CDO-IMPORTANCE:1
CLASS:PUBLIC
END:VEVENT
END:VCALENDAR
