BEGIN:VCALENDAR
PRODID:-//kirchenweb.ch gmbh//veranstaltungsausgabe v2.0//DE
VERSION:2.0
METHOD:PUBLISH
BEGIN:VEVENT
DTSTART:20250627T180000Z
DTEND:20250627T200000Z
LOCATION:Reformierte Kirche Bremgarten\, Bärenmattstrasse 1\, 5620
  Bremgarten
TRANSP:OPAQUE
SEQUENCE:0
UID:15312-veranstaltung@ref-bremgarten-mutschellen.ch
DTSTAMP:20241025T113815Z
DESCRIPTION:Das Taizé-Gebet ist eine predigtlose\,
  besinnlich-kontemplative Gottesdienstform\, die sich an\nklösterliche
  Formen des Gebets anlehnt.\n\nBiblische und poetische Lesungen\, Stille\,
  Gebete und kurze Gesänge\, die vielfach wiederholt werden\, erlauben
  es\, den eigenen Gedanken vor Gott Raum zu geben. Der Vertiefung des
  kontemplativen Charakters dient auch die visuelle Gestaltung und die
  Verwendung von Symbolen sowie die halbrunde Sitzordnung.\n\nKontakt: Lily
  Gallagher\, Tel. 056 633 89 32\n\nWeitere Infos:
  https://www.ref-bremgarten-mutschellen.ch/veranstaltung/15312
SUMMARY:Taizé-Gebet
PRIORITY:5
X-MICROSOFT-CDO-IMPORTANCE:1
CLASS:PUBLIC
END:VEVENT
END:VCALENDAR
