BEGIN:VCALENDAR
PRODID:-//kirchenweb.ch gmbh//veranstaltungsausgabe v2.0//DE
VERSION:2.0
METHOD:PUBLISH
BEGIN:VEVENT
DTSTART:20250627T070000Z
DTEND:20250627T090000Z
LOCATION:KiBiZi-Saal Widen\, Bellikonerstrasse 210\, 8967 Widen
TRANSP:OPAQUE
SEQUENCE:0
UID:15304-veranstaltung@ref-bremgarten-mutschellen.ch
DTSTAMP:20250528T064943Z
DESCRIPTION:«Franziska Springer – Hände frei  für das Aktuelle im
  Leben»\n\nUm 9 Uhr gibt es ein feines Zmorge. \n\nAb 10 Uhr berichtet
  Franziska Springer über ihre Arbeit als Ordnungscoach. Franziska hat in
  Fischbach-Göslikon ein Brocki. Diese Arbeit hat sie zur Frage geführt:
  wie ordne ich mein Zuhause\, was hilft mir\, mich wohlzufühlen? Sie
  begleitet Menschen\, die Ordnung in ihr Zuhause und in ihr Leben bringen
  wollen. Aufräumen – loslassen – behalten – Raum schaffen für das
  Aktuelle im Leben!\n\nAlle sind herzlich eingeladen! Unkostenbeitrag: CHF
  5.\n\nDanke für Ihre Anmeldung bis am Dienstag\, 24. Juni beim
  Sekretariat\,  \nTel. 056 633 25 85 oder
  https://sekretariat@ref-bremgarten-mutschellen.ch\n\nKontakt: Maria
  Trost\, Tel. 056 633 73 50\n\nWeitere Infos:
  https://www.ref-bremgarten-mutschellen.ch/veranstaltung/15304
SUMMARY:Frühstückstreff
PRIORITY:5
X-MICROSOFT-CDO-IMPORTANCE:1
CLASS:PUBLIC
END:VEVENT
END:VCALENDAR
