BEGIN:VCALENDAR
PRODID:-//kirchenweb.ch gmbh//veranstaltungsausgabe v2.0//DE
VERSION:2.0
METHOD:PUBLISH
BEGIN:VEVENT
DTSTART:20241016T070000Z
DTEND:20241016T090000Z
LOCATION:Katholische Kirche Künten\, \,
TRANSP:OPAQUE
SEQUENCE:0
UID:15199-veranstaltung@ref-bremgarten-mutschellen.ch
DTSTAMP:20241011T125420Z
DESCRIPTION:Mittwoch\, 16. Oktober\, 9 bis 11 Uhr\nPfarrsaal Kath. Kirche
  Künten\n«Gesundheit\, Harmonie und Erfolg dank Feng Shui»\nBarbara
  Monika Brunner\, Wohn- & Feng Shui-Beraterin\, gibt Einblick in Feng
  Shui\, eine Wissenschaft zur Optimierung der Lebensenergie Qi\, welche
  uns alle im Alltag beeinflusst – bewusst oder unbewusst. \nDas Ziel von
  Feng Shui ist es\, die natürlich vorhandenen Energien zu Hause oder am
  Arbeitsplatz so zu nutzen\, dass man leichter ein Leben mit Gesundheit\,
  Erfolg und Wohlergehen führen kann.\nWie Feng Shui schon seit
  Jahrtausenden beim Bauen genutzt wird und was der Effekt ist\, erklärt
  sie anhand von Beispielen. Schon einfache Veränderungen können viel
  bewirken und zu mehr \nWohlgefühl und Harmonie führen.\nErfolg im Sinne
  des Feng Shui ist es\, ein glückliches Leben zu führen! \nEs sind alle
  herzlich willkommen. Das Frauenmorgen-Team Künten freut sich \nauf viele
  interessierte Teilnehmende\n\nKontakt: Monika Kern\, Tel. 056 633 71 39\n
 \nWeitere Infos:
  https://www.ref-bremgarten-mutschellen.ch/veranstaltung/15199
SUMMARY:Frauenmorgen Künten
PRIORITY:5
X-MICROSOFT-CDO-IMPORTANCE:1
CLASS:PUBLIC
END:VEVENT
END:VCALENDAR
