BEGIN:VCALENDAR
PRODID:-//kirchenweb.ch gmbh//veranstaltungsausgabe v2.0//DE
VERSION:2.0
METHOD:PUBLISH
BEGIN:VEVENT
DTSTART:20241022T170000Z
DTEND:20241022T180000Z
LOCATION:Kath. Kirche Zufikon\, Bachstrasse 20\, 5621 Zufikon
TRANSP:OPAQUE
SEQUENCE:0
UID:14987-veranstaltung@ref-bremgarten-mutschellen.ch
DTSTAMP:20240902T121928Z
DESCRIPTION:Kontakt: Marie Eve Morf\, Tel: 056 633 05 62\n\nWeitere Infos:
  https://www.ref-bremgarten-mutschellen.ch/veranstaltung/14987
SUMMARY:Friedensgebet
PRIORITY:5
X-MICROSOFT-CDO-IMPORTANCE:1
CLASS:PUBLIC
END:VEVENT
END:VCALENDAR
