BEGIN:VCALENDAR
PRODID:-//kirchenweb.ch gmbh//veranstaltungsausgabe v2.0//DE
VERSION:2.0
METHOD:PUBLISH
BEGIN:VEVENT
DTSTART:20240822T130000Z
DTEND:20240822T170000Z
LOCATION:JuPa\, neben der Ref. Kirche Widen\, neben der Ref. Kirche\, 8967
  Widen
TRANSP:OPAQUE
SEQUENCE:0
UID:14808-veranstaltung@ref-bremgarten-mutschellen.ch
DTSTAMP:20240617T092637Z
DESCRIPTION:Asyltreff KREATIV bietet Einheimischen und Zugewanderten
 \neinen Raum zur kreativen und handwerklichen Entfaltung. Kinder sind
  ebenfalls herzlich willkommen!\n\nKreativ-Café:	Wir nähen\, werken\,
  malen\, spielen und kochen  \n 	zusammen.\n\nRepair-Café:  Zusammen
  reparieren wir Velos und andere \n  		  Gegenstände\, die eine zweite
  Chance verdienen! \n\n\nKontakt:
  manuel.keller@ref-bremgarten-mutschellen.ch\n\nWeitere Infos:
  https://www.ref-bremgarten-mutschellen.ch/veranstaltung/14808
SUMMARY:Asyltreff KREATIV
PRIORITY:5
X-MICROSOFT-CDO-IMPORTANCE:1
CLASS:PUBLIC
END:VEVENT
END:VCALENDAR
