BEGIN:VCALENDAR
PRODID:-//kirchenweb.ch gmbh//veranstaltungsausgabe v2.0//DE
VERSION:2.0
METHOD:PUBLISH
BEGIN:VEVENT
DTSTART:20240828T054500Z
DTEND:20240828T164500Z
LOCATION:Dom St. Blasius\, Fürstabt-Gerbert-Straße 16\, D-79837 Sankt
  Blasien
TRANSP:OPAQUE
SEQUENCE:0
UID:14789-veranstaltung@ref-bremgarten-mutschellen.ch
DTSTAMP:20240820T081719Z
DESCRIPTION:Besichtigung des Doms in St. Blasien\, Schwarzwald\, wo das
  internationale Bildhauersymposium stattfindet. \n\nAbfahrt Bahnhof
  Bremgarten: 7.45 Uhr\nAbfahrt Parkplatz KiBiZi\, Widen: 8.00 Uhr\n\nDie
  Car Fahrt führt uns nach Deutschland. Unterwegs geniessen wir einen
  Kaffee mit Gipfeli/Brötli. In St. Blasien haben wir eine Führung im
  wunderschönen Dom. Da Montag bis Mittwoch das Bildhauersymposium
  stattfindet\, wird die Möglichkeit geboten\, diese Kunstwerke aus Holz
  auf den Plätzen und auf der Strasse zu besichtigen und den Künstlern
  über die Schulter zu schauen. Wir essen im Domhotel in St. Blasien\, das
  direkt vor dem Dom liegt. Die eine Gruppe hat die Führung vor dem
  Mittagessen und die andere danach. Anschliessend fahren wir am Schluch-
  und Titisee vorbei und machen in Titisee eine kurze Pause.  An den
  Einsteigeorten sind wir ungefähr um 18.45 Uhr zurück.	\n\n\nKontakt:
  Monika Kern\, Tel. 056 633 71 39\n\nWeitere Infos:
  https://www.ref-bremgarten-mutschellen.ch/veranstaltung/14789
SUMMARY:Tagesausflug zum Dom St. Blasien
PRIORITY:5
X-MICROSOFT-CDO-IMPORTANCE:1
CLASS:PUBLIC
END:VEVENT
END:VCALENDAR
