BEGIN:VCALENDAR
PRODID:-//kirchenweb.ch gmbh//veranstaltungsausgabe v2.0//DE
VERSION:2.0
METHOD:PUBLISH
BEGIN:VEVENT
DTSTART:20240827T170000Z
DTEND:20240827T180000Z
LOCATION:Kath. Kirche Berikon\, Oberwilerstrasse 5\, 8965 Berikon
TRANSP:OPAQUE
SEQUENCE:0
UID:14770-veranstaltung@ref-bremgarten-mutschellen.ch
DTSTAMP:20240805T140530Z
DESCRIPTION:Kontakt: Marie Eve Morf\, Tel: 056 633 05 62\n\nWeitere Infos:
  https://www.ref-bremgarten-mutschellen.ch/veranstaltung/14770
SUMMARY:Friedensgebet
PRIORITY:5
X-MICROSOFT-CDO-IMPORTANCE:1
CLASS:PUBLIC
END:VEVENT
END:VCALENDAR
