BEGIN:VCALENDAR
PRODID:-//kirchenweb.ch gmbh//veranstaltungsausgabe v2.0//DE
VERSION:2.0
METHOD:PUBLISH
BEGIN:VEVENT
DTSTART:20241017T180000Z
DTEND:20241017T193000Z
LOCATION:Reformierte Kirche Widen\, Bellikonerstrasse 206\, 8967 Widen
TRANSP:OPAQUE
SEQUENCE:0
UID:14298-veranstaltung@ref-bremgarten-mutschellen.ch
DTSTAMP:20240131T091152Z
DESCRIPTION:Kontakt: Maria Trost\n\nWeitere Infos:
  https://www.ref-bremgarten-mutschellen.ch/veranstaltung/14298
SUMMARY:Aufgetischt statt weggeworfen
PRIORITY:5
X-MICROSOFT-CDO-IMPORTANCE:1
CLASS:PUBLIC
END:VEVENT
END:VCALENDAR
