BEGIN:VCALENDAR
PRODID:-//kirchenweb.ch gmbh//veranstaltungsausgabe v2.0//DE
VERSION:2.0
METHOD:PUBLISH
BEGIN:VEVENT
DTSTART:20240822T180000Z
DTEND:20240822T193000Z
LOCATION:Reformierte Kirche Widen\, Bellikonerstrasse 206\, 8967 Widen
TRANSP:OPAQUE
SEQUENCE:0
UID:14290-veranstaltung@ref-bremgarten-mutschellen.ch
DTSTAMP:20240131T091151Z
DESCRIPTION:Kontakt: Maria Trost\n\nWeitere Infos:
  https://www.ref-bremgarten-mutschellen.ch/veranstaltung/14290
SUMMARY:Aufgetischt statt weggeworfen
PRIORITY:5
X-MICROSOFT-CDO-IMPORTANCE:1
CLASS:PUBLIC
END:VEVENT
END:VCALENDAR
