BEGIN:VCALENDAR
PRODID:-//kirchenweb.ch gmbh//veranstaltungsausgabe v2.0//DE
VERSION:2.0
METHOD:PUBLISH
BEGIN:VEVENT
DTSTART:20241019T080000Z
DTEND:20241019T100000Z
LOCATION:Cheminéezimmer Kirche Widen - 1. Stock\, Bellikonerstrasse 206\,
  8967 Widen
TRANSP:OPAQUE
SEQUENCE:0
UID:14245-veranstaltung@ref-bremgarten-mutschellen.ch
DTSTAMP:20240829T060011Z
DESCRIPTION:«Rituale versus Gewohnheiten»\n\nBrauchen wir Rituale und
  falls ja\, warum? Wo liegt der Unterschied zwischen Ritual und
  Gewohnheit? Ist der Kaffee am Morgen oder der tägliche Abendspaziergang
  bereits ein Ritual oder bloss eine lieb gewordene Gewohnheit? Welche
  Voraussetzungen sind nötig für ein Ritual? Über all diese Fragen
  wollen wir uns an diesem Morgen Gedanken machen und nach Möglichkeit ein
  kleines Ritual mit der Gruppe gestalten. \n\nWir freuen uns auf Ihr
  Kommen und laden alle interessierten Frauen dazu ein.\n\n\nKontakt: Eva
  Maria Wacha\, Tel: 056 633 85 52\n\nWeitere Infos:
  https://www.ref-bremgarten-mutschellen.ch/veranstaltung/14245
SUMMARY:FrauenLeben
PRIORITY:5
X-MICROSOFT-CDO-IMPORTANCE:1
CLASS:PUBLIC
END:VEVENT
END:VCALENDAR
