BEGIN:VCALENDAR
PRODID:-//kirchenweb.ch gmbh//veranstaltungsausgabe v2.0//DE
VERSION:2.0
METHOD:PUBLISH
BEGIN:VEVENT
DTSTART:20241018T120000Z
DTEND:20241018T140000Z
LOCATION:Foyer KiBiZi\, Bellikonerstrasse 210\, 8967 Widen
TRANSP:OPAQUE
SEQUENCE:0
UID:14182-veranstaltung@ref-bremgarten-mutschellen.ch
DTSTAMP:20240124T081221Z
DESCRIPTION:«Cafi Mitenand»\n\nDas Cafi mitenand-Team freut sich sehr an
  den Freitagen viele Gäste zu empfangen. Wenn es draussen angenehm warm
  ist\, stellen wir unsere Tische auch ins Freie und es gibt Cafi\, Tee und
  Guetzli. Falls es kühl ist oder regnet\, bewirten wir die Gäste im
  KiBiZi -Saal.\n\nWir freuen uns auf Ihren Besuch und auf fröhliche\,
  heitere\, interessante\, unbeschwerte und tiefgründige Gespräche. Es
  gibt nichts Schöneres\, als sich mit Menschen zu einer Tasse Kaffee oder
  Tee zu treffen und den Nachmittag in Gemeinschaft zu geniessen und sich
  über die neusten News auszutauschen. \n\n\nKontakt: Vreni Donati\, Tel.
  076 304 21 76 \nVDonati@gmx.ch\n\n\nKontakt: Maria Trost\, Tel. 056 633
  73 50\n\nWeitere Infos:
  https://www.ref-bremgarten-mutschellen.ch/veranstaltung/14182
SUMMARY:Cafi mitenand
PRIORITY:5
X-MICROSOFT-CDO-IMPORTANCE:1
CLASS:PUBLIC
END:VEVENT
END:VCALENDAR
