BEGIN:VCALENDAR
PRODID:-//kirchenweb.ch gmbh//veranstaltungsausgabe v2.0//DE
VERSION:2.0
METHOD:PUBLISH
BEGIN:VEVENT
DTSTART:20241019T070000Z
DTEND:20241019T093000Z
LOCATION:im Keller des Kirchgemeindehaus Bremgarten\, Bärenmattstrasse
  1\, 5620@Bremg
TRANSP:OPAQUE
SEQUENCE:0
UID:14127-veranstaltung@ref-bremgarten-mutschellen.ch
DTSTAMP:20240116T144636Z
DESCRIPTION:Unsere grosse Auswahl an Geschirr\, Gläsern\, Glaswaren\,
  Küchenartikel\, CDs\,\nHörbücher\, Kinder- und Familienspiele ist dazu
  da\, um wieder gebraucht zu werden. \n\nAuch viele Schallplatten und
  Bücher\, alles zum kleinen Preis.\n\nWir freuen uns sehr auf Ihren
  Besuch\, gerne auch bei Kaffee und Zopf.\n\nGegenstände werden nur
  während den Öffnungszeiten angenommen.\n\nKontakt: Thérèse Kuratle\,
  Tel: 056 641 13 15\n\nWeitere Infos:
  https://www.ref-bremgarten-mutschellen.ch/veranstaltung/14127
SUMMARY:Flohmarkt Bremgarten
PRIORITY:5
X-MICROSOFT-CDO-IMPORTANCE:1
CLASS:PUBLIC
END:VEVENT
END:VCALENDAR
