BEGIN:VCALENDAR
PRODID:-//kirchenweb.ch gmbh//veranstaltungsausgabe v2.0//DE
VERSION:2.0
METHOD:PUBLISH
BEGIN:VEVENT
DTSTART:20241020T080000Z
DTEND:20241020T090000Z
LOCATION:Kath. Kirche Oberwil-Lieli\, Kirchweg 41\, 8966 Oberwil-Lieli
TRANSP:OPAQUE
SEQUENCE:0
UID:13843-veranstaltung@ref-bremgarten-mutschellen.ch
DTSTAMP:20231215T133225Z
DESCRIPTION:Kontakt: Elke Räbiger\, Tel. 079 489 45 27\n\nWeitere Infos:
  https://www.ref-bremgarten-mutschellen.ch/veranstaltung/13843
SUMMARY:Ökum. Erntedank Oberwil-Lieli
PRIORITY:5
X-MICROSOFT-CDO-IMPORTANCE:1
CLASS:PUBLIC
END:VEVENT
END:VCALENDAR
