BEGIN:VCALENDAR
PRODID:-//kirchenweb.ch gmbh//veranstaltungsausgabe v2.0//DE
VERSION:2.0
METHOD:PUBLISH
BEGIN:VEVENT
DTSTART:20240825T083000Z
DTEND:20240825T093000Z
LOCATION:Wald Schweielholz\, \, 5525 Fischbach-Göslikon
TRANSP:OPAQUE
SEQUENCE:0
UID:13839-veranstaltung@ref-bremgarten-mutschellen.ch
DTSTAMP:20250528T082814Z
DESCRIPTION:Kontakt: Ruedi Bertschi\, Tel. 056 633 11 04\n\nWeitere Infos:
  https://www.ref-bremgarten-mutschellen.ch/veranstaltung/13839
SUMMARY:Ökum. Waldgottesdienst Schweielholz
PRIORITY:5
X-MICROSOFT-CDO-IMPORTANCE:1
CLASS:PUBLIC
END:VEVENT
END:VCALENDAR
