BEGIN:VCALENDAR
PRODID:-//kirchenweb.ch gmbh//veranstaltungsausgabe v2.0//DE
VERSION:2.0
METHOD:PUBLISH
BEGIN:VEVENT
DTSTART:20240825T081000Z
DTEND:20240825T091000Z
LOCATION:Ref. Kirche Bremgarten\, Bärenmattstrasse 1\, 5620 Bremgarten
TRANSP:OPAQUE
SEQUENCE:0
UID:13822-veranstaltung@ref-bremgarten-mutschellen.ch
DTSTAMP:20240705T094039Z
DESCRIPTION:Kontakt: Elke Räbiger\, Tel. 079 489 45 27\n\nWeitere Infos:
  https://www.ref-bremgarten-mutschellen.ch/veranstaltung/13822
SUMMARY:Gottesdienst
PRIORITY:5
X-MICROSOFT-CDO-IMPORTANCE:1
CLASS:PUBLIC
END:VEVENT
END:VCALENDAR
