BEGIN:VCALENDAR
PRODID:-//kirchenweb.ch gmbh//veranstaltungsausgabe v2.0//DE
VERSION:2.0
METHOD:PUBLISH
BEGIN:VEVENT
DTSTART:20240823T070000Z
DTEND:20240823T090000Z
LOCATION:KiBiZi-Saal Widen\, Bellikonerstrasse 210\, 8967 Widen
TRANSP:OPAQUE
SEQUENCE:0
UID:13634-veranstaltung@ref-bremgarten-mutschellen.ch
DTSTAMP:20240708T090640Z
DESCRIPTION:«Sagen aus dem Freiamt mit Schwyzerörgeli Musik»\nUm 9 Uhr
  gibt es ein feines Zmorge. \n\nAb 10 Uhr erzählt Käthi Gubler Weibel
  interessante Sagen aus dem Freiamt. Diese Sagen erzählen Wissenswertes
  aus unserer näheren Umgebung und geben Auskunft über alte Vorkommnisse.
  Wir verlassen aber auch das Freiamt und hören noch Sagen aus unserer
  Hauptstadt Aarau. \n\nDazwischen unterhält uns Heinz Duttweiler auf
  seinem Schwyzerörgeli mit bekannten und weniger bekannten Musikstücken.
 \n\nKontakt: Maria Trost\, Tel. 056 633 73 50\n\nWeitere Infos:
  https://www.ref-bremgarten-mutschellen.ch/veranstaltung/13634
SUMMARY:Frühstückstreff
PRIORITY:5
X-MICROSOFT-CDO-IMPORTANCE:1
CLASS:PUBLIC
END:VEVENT
END:VCALENDAR
