BEGIN:VCALENDAR
PRODID:-//kirchenweb.ch gmbh//veranstaltungsausgabe v2.0//DE
VERSION:2.0
METHOD:PUBLISH
BEGIN:VEVENT
DTSTART:20241021T173000Z
DTEND:20241021T190000Z
LOCATION:Dachstube des kath. Pfarreiheims Zufikon\, Bachstrasse 20\, 5621
  Zufikon
TRANSP:OPAQUE
SEQUENCE:0
UID:13613-veranstaltung@ref-bremgarten-mutschellen.ch
DTSTAMP:20231128T081155Z
DESCRIPTION:Vertiefte Gestaltung des Lebens aus Gott und mit Gott durch
  Einübung in christliche Meditation. \n\nKontakt: Marie Eve Morf\, Tel.
  056 633 05 62\n\nWeitere Infos:
  https://www.ref-bremgarten-mutschellen.ch/veranstaltung/13613
SUMMARY:Ökum. Meditation im Alltag
PRIORITY:5
X-MICROSOFT-CDO-IMPORTANCE:1
CLASS:PUBLIC
END:VEVENT
END:VCALENDAR
