BEGIN:VCALENDAR
PRODID:-//kirchenweb.ch gmbh//veranstaltungsausgabe v2.0//DE
VERSION:2.0
METHOD:PUBLISH
BEGIN:VEVENT
DTSTART:20241021T120000Z
DTEND:20241021T140000Z
LOCATION:Kirchgemeindehaus Bremgarten\, Bärenmattstrasse 1\, 5620
  Bremgarten
TRANSP:OPAQUE
SEQUENCE:0
UID:13600-veranstaltung@ref-bremgarten-mutschellen.ch
DTSTAMP:20231128T075255Z
DESCRIPTION:Lesefreudige Menschen ab 60 treffen sich alle 14 Tage um 14
  Uhr im Pfarrhaus Bremgarten\, lesen aus einem gemeinsamen gewählten Buch
  und tauschen Gedanken zur gelesenen Literatur aus. Daraus entstehen
  Diskussionen über Werte und Lebensanschauungen.\n\nDies tun wir bei
  Kaffee oder Tee und Kuchen. Neue Leserinnen und Leser sind willkommen. \n
 \nKontakt: Monika Kern\, Tel. 056 633 71 39\n\nWeitere Infos:
  https://www.ref-bremgarten-mutschellen.ch/veranstaltung/13600
SUMMARY:Lesezirkel
PRIORITY:5
X-MICROSOFT-CDO-IMPORTANCE:1
CLASS:PUBLIC
END:VEVENT
END:VCALENDAR
