BEGIN:VCALENDAR
PRODID:-//kirchenweb.ch gmbh//veranstaltungsausgabe v2.0//DE
VERSION:2.0
METHOD:PUBLISH
BEGIN:VEVENT
DTSTART:20241018T114500Z
DTEND:20241018T140000Z
LOCATION:Cheminéezimmer Kirche Widen\, Bellikonerstrasse 206\, 8967 Widen
TRANSP:OPAQUE
SEQUENCE:0
UID:13556-veranstaltung@ref-bremgarten-mutschellen.ch
DTSTAMP:20231124T163232Z
DESCRIPTION:Ihr Hobby ist stricken und häkeln! \nDann schauen Sie doch
  einfach bei uns vorbei. Wir sind eine fröhliche und unkomplizierte
  Gruppe\, die gerne zusammen handarbeitet.\n\nKontakt: Maria Trost\, Tel.
  056 633 73 50\n\nWeitere Infos:
  https://www.ref-bremgarten-mutschellen.ch/veranstaltung/13556
SUMMARY:Stricktreff
PRIORITY:5
X-MICROSOFT-CDO-IMPORTANCE:1
CLASS:PUBLIC
END:VEVENT
END:VCALENDAR
