BEGIN:VCALENDAR
PRODID:-//kirchenweb.ch gmbh//veranstaltungsausgabe v2.0//DE
VERSION:2.0
METHOD:PUBLISH
BEGIN:VEVENT
DTSTART:20241018T080000Z
DTEND:20241018T100000Z
LOCATION:Alterszentrum Burkertsmatt\, Widen\, Burkertsmatt 4\, 8967 Widen
TRANSP:OPAQUE
SEQUENCE:0
UID:13527-veranstaltung@ref-bremgarten-mutschellen.ch
DTSTAMP:20240320T104733Z
DESCRIPTION:Kontakt: Marcel Sturzenegger\, Tel. 056 633 78 14\n\nWeitere
  Infos: https://www.ref-bremgarten-mutschellen.ch/veranstaltung/13527
SUMMARY:Gottesdienst AZ Burkertsmatt
PRIORITY:5
X-MICROSOFT-CDO-IMPORTANCE:1
CLASS:PUBLIC
END:VEVENT
END:VCALENDAR
