BEGIN:VCALENDAR
PRODID:-//kirchenweb.ch gmbh//veranstaltungsausgabe v2.0//DE
VERSION:2.0
METHOD:PUBLISH
BEGIN:VEVENT
DTSTART:20240823T080000Z
DTEND:20240823T100000Z
LOCATION:Alterszentrum Burkertsmatt\, Widen\, Burkertsmatt 4\, 8967 Widen
TRANSP:OPAQUE
SEQUENCE:0
UID:13523-veranstaltung@ref-bremgarten-mutschellen.ch
DTSTAMP:20240813T065518Z
DESCRIPTION:Kontakt: Monika Kern\, Tel. 056 633 71 39\n\nWeitere Infos:
  https://www.ref-bremgarten-mutschellen.ch/veranstaltung/13523
SUMMARY:Gottesdienst AZ Burkertsmatt
PRIORITY:5
X-MICROSOFT-CDO-IMPORTANCE:1
CLASS:PUBLIC
END:VEVENT
END:VCALENDAR
