BEGIN:VCALENDAR
PRODID:-//kirchenweb.ch gmbh//veranstaltungsausgabe v2.0//DE
VERSION:2.0
METHOD:PUBLISH
BEGIN:VEVENT
DTSTART:20241020T080000Z
DTEND:20241020T090000Z
LOCATION:Pavillon Niederwil\, Schulweg 3\, 5524 Niederwil
TRANSP:OPAQUE
SEQUENCE:0
UID:13211-veranstaltung@ref-bremgarten-mutschellen.ch
DTSTAMP:20240705T094635Z
DESCRIPTION:Kontakt: Maria Trost\, Tel. 056 633 73 50\n\nWeitere Infos:
  https://www.ref-bremgarten-mutschellen.ch/veranstaltung/13211
SUMMARY:Gottesdienst
PRIORITY:5
X-MICROSOFT-CDO-IMPORTANCE:1
CLASS:PUBLIC
END:VEVENT
END:VCALENDAR
