BEGIN:VCALENDAR
PRODID:-//kirchenweb.ch gmbh//veranstaltungsausgabe v2.0//DE
VERSION:2.0
METHOD:PUBLISH
BEGIN:VEVENT
DTSTART:20240825T080000Z
DTEND:20240825T090000Z
LOCATION:Reusspark Niederwil\, Gnadenthal\, 5524 Niederwil
TRANSP:OPAQUE
SEQUENCE:0
UID:13198-veranstaltung@ref-bremgarten-mutschellen.ch
DTSTAMP:20240320T105424Z
DESCRIPTION:Kontakt: René Riva\n\nWeitere Infos:
  https://www.ref-bremgarten-mutschellen.ch/veranstaltung/13198
SUMMARY:Gottesdienst AZ Reusspark
PRIORITY:5
X-MICROSOFT-CDO-IMPORTANCE:1
CLASS:PUBLIC
END:VEVENT
END:VCALENDAR
