BEGIN:VCALENDAR
PRODID:-//kirchenweb.ch gmbh//veranstaltungsausgabe v2.0//DE
VERSION:2.0
METHOD:PUBLISH
BEGIN:VEVENT
DTSTART:20240825T163000Z
DTEND:20240825T173000Z
LOCATION:Ref. Kirche Widen\, Bellikonerstrasse 206\, 8967 Widen
TRANSP:OPAQUE
SEQUENCE:0
UID:13181-veranstaltung@ref-bremgarten-mutschellen.ch
DTSTAMP:20240703T083140Z
DESCRIPTION:Kontakt: Corinne Dobler\, Tel. 056 631 06 26\n\nWeitere Infos:
  https://www.ref-bremgarten-mutschellen.ch/veranstaltung/13181
SUMMARY:Musikalischer Abendgottesdienst
PRIORITY:5
X-MICROSOFT-CDO-IMPORTANCE:1
CLASS:PUBLIC
END:VEVENT
END:VCALENDAR
